BEGIN:VCALENDAR
VERSION:2.0
PRODID:-//jEvents 2.0 for Joomla//EN
CALSCALE:GREGORIAN
METHOD:PUBLISH
BEGIN:VTIMEZONE
TZID:Europe/Berlin
BEGIN:STANDARD
DTSTART:20251026T020000
RDATE:20260329T030000
TZOFFSETFROM:+0200
TZOFFSETTO:+0100
TZNAME:Europe/Berlin CET
END:STANDARD
BEGIN:STANDARD
DTSTART:20261025T020000
RDATE:20270328T030000
TZOFFSETFROM:+0200
TZOFFSETTO:+0100
TZNAME:Europe/Berlin CET
END:STANDARD
BEGIN:STANDARD
DTSTART:20271031T020000
RDATE:20280326T030000
TZOFFSETFROM:+0200
TZOFFSETTO:+0100
TZNAME:Europe/Berlin CET
END:STANDARD
BEGIN:STANDARD
DTSTART:20281029T020000
RDATE:20290325T030000
TZOFFSETFROM:+0200
TZOFFSETTO:+0100
TZNAME:Europe/Berlin CET
END:STANDARD
BEGIN:STANDARD
DTSTART:20291028T020000
RDATE:20300331T030000
TZOFFSETFROM:+0200
TZOFFSETTO:+0100
TZNAME:Europe/Berlin CET
END:STANDARD
BEGIN:STANDARD
DTSTART:20301027T020000
RDATE:20310330T030000
TZOFFSETFROM:+0200
TZOFFSETTO:+0100
TZNAME:Europe/Berlin CET
END:STANDARD
BEGIN:STANDARD
DTSTART:20311026T020000
RDATE:20320328T030000
TZOFFSETFROM:+0200
TZOFFSETTO:+0100
TZNAME:Europe/Berlin CET
END:STANDARD
BEGIN:DAYLIGHT
DTSTART:20250422T180000
RDATE:20251026T020000
TZOFFSETFROM:+0100
TZOFFSETTO:+0200
TZNAME:Europe/Berlin CEST
END:DAYLIGHT
BEGIN:DAYLIGHT
DTSTART:20260329T030000
RDATE:20261025T020000
TZOFFSETFROM:+0100
TZOFFSETTO:+0200
TZNAME:Europe/Berlin CEST
END:DAYLIGHT
BEGIN:DAYLIGHT
DTSTART:20270328T030000
RDATE:20271031T020000
TZOFFSETFROM:+0100
TZOFFSETTO:+0200
TZNAME:Europe/Berlin CEST
END:DAYLIGHT
BEGIN:DAYLIGHT
DTSTART:20280326T030000
RDATE:20281029T020000
TZOFFSETFROM:+0100
TZOFFSETTO:+0200
TZNAME:Europe/Berlin CEST
END:DAYLIGHT
BEGIN:DAYLIGHT
DTSTART:20290325T030000
RDATE:20291028T020000
TZOFFSETFROM:+0100
TZOFFSETTO:+0200
TZNAME:Europe/Berlin CEST
END:DAYLIGHT
BEGIN:DAYLIGHT
DTSTART:20300331T030000
RDATE:20301027T020000
TZOFFSETFROM:+0100
TZOFFSETTO:+0200
TZNAME:Europe/Berlin CEST
END:DAYLIGHT
BEGIN:DAYLIGHT
DTSTART:20310330T030000
RDATE:20311026T020000
TZOFFSETFROM:+0100
TZOFFSETTO:+0200
TZNAME:Europe/Berlin CEST
END:DAYLIGHT
END:VTIMEZONE
BEGIN:VEVENT
UID:851c237738d15b9ba658823d5b27a533
CATEGORIES:Fohlen, Auktionen
CREATED:20260422T091140
SUMMARY:Präsentation der 3. Elitefohlen Turnier-Auktion Hagen a.T.W. Kollektion
LOCATION:Hof Kasselmann
DESCRIPTION:Bereits zum 3. Mal findet bei Horses &amp; Dreams auf dem Hof Kasselmann ei
 ne Oldenburger Elite-Fohlenauktion statt. Horses &amp; Dreams gehört zu ein
 er der renommiertesten Veranstaltungen im internationalen Pferdesportkalend
 er, die Züchter, Spitzenreiter und Pferdeliebhaber aus der ganzen Welt zus
 ammenbringt. Auch im Jubiläumsjahr 2026 dürfen sich die Besucher, neben de
 m hochkarätigen Sportprogramm, auch über die Oldenburger Elite-Fohlenaukti
 on freuen, die im Rahmen dieses Events am Freitag, 24. April in den Abendst
 unden, stattfinden wird.\n
X-ALT-DESC;FMTTYPE=text/html:<p>Bereits zum 3. Mal findet bei Horses &amp; Dreams auf dem Hof Kasselmann
  eine Oldenburger Elite-Fohlenauktion statt. Horses &amp; Dreams gehört zu 
 einer der renommiertesten Veranstaltungen im internationalen Pferdesportkal
 ender, die Züchter, Spitzenreiter und Pferdeliebhaber aus der ganzen Welt 
 zusammenbringt. Auch im Jubiläumsjahr 2026 dürfen sich die Besucher, neben
  dem hochkarätigen Sportprogramm, auch über die Oldenburger Elite-Fohlenau
 ktion freuen, die im Rahmen dieses Events am Freitag, 24. April in den Aben
 dstunden, stattfinden wird.</p>
DTSTAMP:20260423T124259
DTSTART;TZID=Europe/Berlin:20260423T180000
DTEND;TZID=Europe/Berlin:20260423T194500
SEQUENCE:0
TRANSP:OPAQUE
END:VEVENT
END:VCALENDAR