BEGIN:VCALENDAR
VERSION:2.0
PRODID:-//jEvents 2.0 for Joomla//EN
CALSCALE:GREGORIAN
METHOD:PUBLISH
BEGIN:VTIMEZONE
TZID:Europe/Berlin
BEGIN:STANDARD
DTSTART:20251026T020000
RDATE:20260329T030000
TZOFFSETFROM:+0200
TZOFFSETTO:+0100
TZNAME:Europe/Berlin CET
END:STANDARD
BEGIN:STANDARD
DTSTART:20261025T020000
RDATE:20270328T030000
TZOFFSETFROM:+0200
TZOFFSETTO:+0100
TZNAME:Europe/Berlin CET
END:STANDARD
BEGIN:STANDARD
DTSTART:20271031T020000
RDATE:20280326T030000
TZOFFSETFROM:+0200
TZOFFSETTO:+0100
TZNAME:Europe/Berlin CET
END:STANDARD
BEGIN:STANDARD
DTSTART:20281029T020000
RDATE:20290325T030000
TZOFFSETFROM:+0200
TZOFFSETTO:+0100
TZNAME:Europe/Berlin CET
END:STANDARD
BEGIN:STANDARD
DTSTART:20291028T020000
RDATE:20300331T030000
TZOFFSETFROM:+0200
TZOFFSETTO:+0100
TZNAME:Europe/Berlin CET
END:STANDARD
BEGIN:STANDARD
DTSTART:20301027T020000
RDATE:20310330T030000
TZOFFSETFROM:+0200
TZOFFSETTO:+0100
TZNAME:Europe/Berlin CET
END:STANDARD
BEGIN:STANDARD
DTSTART:20311026T020000
RDATE:20320328T030000
TZOFFSETFROM:+0200
TZOFFSETTO:+0100
TZNAME:Europe/Berlin CET
END:STANDARD
BEGIN:DAYLIGHT
DTSTART:20250422T180000
RDATE:20251026T020000
TZOFFSETFROM:+0100
TZOFFSETTO:+0200
TZNAME:Europe/Berlin CEST
END:DAYLIGHT
BEGIN:DAYLIGHT
DTSTART:20260329T030000
RDATE:20261025T020000
TZOFFSETFROM:+0100
TZOFFSETTO:+0200
TZNAME:Europe/Berlin CEST
END:DAYLIGHT
BEGIN:DAYLIGHT
DTSTART:20270328T030000
RDATE:20271031T020000
TZOFFSETFROM:+0100
TZOFFSETTO:+0200
TZNAME:Europe/Berlin CEST
END:DAYLIGHT
BEGIN:DAYLIGHT
DTSTART:20280326T030000
RDATE:20281029T020000
TZOFFSETFROM:+0100
TZOFFSETTO:+0200
TZNAME:Europe/Berlin CEST
END:DAYLIGHT
BEGIN:DAYLIGHT
DTSTART:20290325T030000
RDATE:20291028T020000
TZOFFSETFROM:+0100
TZOFFSETTO:+0200
TZNAME:Europe/Berlin CEST
END:DAYLIGHT
BEGIN:DAYLIGHT
DTSTART:20300331T030000
RDATE:20301027T020000
TZOFFSETFROM:+0100
TZOFFSETTO:+0200
TZNAME:Europe/Berlin CEST
END:DAYLIGHT
BEGIN:DAYLIGHT
DTSTART:20310330T030000
RDATE:20311026T020000
TZOFFSETFROM:+0100
TZOFFSETTO:+0200
TZNAME:Europe/Berlin CEST
END:DAYLIGHT
END:VTIMEZONE
BEGIN:VEVENT
UID:851c237738d15b9ba658823d5b27a533
CATEGORIES:foals, auctions
CREATED:20260422T091140
SUMMARY:Presentation of the 3rd Elite Foal Tournament Auction Collection
LOCATION:Hof Kasselmann
DESCRIPTION: For the third time, an Oldenburg Elite Foal Auction will take place at Hor
 ses &amp; Dreams at Hof Kasselmann. Horses &amp; Dreams is one of the most 
 prestigious events in the international equestrian calendar, bringing toget
 her breeders, top riders and horse enthusiasts from around the world. In th
 e anniversary year 2026, visitors can once again look forward not only to t
 op-class sport, but also to the Oldenburg Elite Foal Auction, which will be
  held as part of the event on Friday, 24 April in the evening hours.\n
X-ALT-DESC;FMTTYPE=text/html:<section class="text-token-text-primary w-full focus:outline-none [--shadow
 -height:45px] has-data-writing-block:pointer-events-none has-data-writing-b
 lock:-mt-(--shadow-height) has-data-writing-block:pt-(--shadow-height) [&am
 p;:has([data-writing-block])&gt;*]:pointer-events-auto scroll-mt-(--header-
 height)" dir="auto" data-turn-id="5b8dbb17-e4d9-4eea-9960-4de68420aec9" dat
 a-testid="conversation-turn-21" data-scroll-anchor="false" data-turn="user"
 ><div class="text-base my-auto mx-auto pt-12 [--thread-content-margin:var(-
 -thread-content-margin-xs,calc(var(--spacing)*4))] @w-sm/main:[--thread-con
 tent-margin:var(--thread-content-margin-sm,calc(var(--spacing)*6))] @w-lg/m
 ain:[--thread-content-margin:var(--thread-content-margin-lg,calc(var(--spac
 ing)*16))] px-(--thread-content-margin)"><div class="[--thread-content-max-
 width:40rem] @w-lg/main:[--thread-content-max-width:48rem] mx-auto max-w-(-
 -thread-content-max-width) flex-1 group/turn-messages focus-visible:outline
 -hidden relative flex w-full min-w-0 flex-col"><div class="z-0 flex justify
 -end">&nbsp;</div></div></div></section><section class="text-token-text-pri
 mary w-full focus:outline-none [--shadow-height:45px] has-data-writing-bloc
 k:pointer-events-none has-data-writing-block:-mt-(--shadow-height) has-data
 -writing-block:pt-(--shadow-height) [&amp;:has([data-writing-block])&gt;*]:
 pointer-events-auto scroll-mt-[calc(var(--header-height)+min(200px,max(70px
 ,20svh)))]" dir="auto" data-turn-id="request-69df3c4f-6da0-832c-aafc-bc4c63
 ef0527-13" data-testid="conversation-turn-22" data-scroll-anchor="true" dat
 a-turn="assistant"><div class="text-base my-auto mx-auto pb-10 [--thread-co
 ntent-margin:var(--thread-content-margin-xs,calc(var(--spacing)*4))] @w-sm/
 main:[--thread-content-margin:var(--thread-content-margin-sm,calc(var(--spa
 cing)*6))] @w-lg/main:[--thread-content-margin:var(--thread-content-margin-
 lg,calc(var(--spacing)*16))] px-(--thread-content-margin)"><div class="[--t
 hread-content-max-width:40rem] @w-lg/main:[--thread-content-max-width:48rem
 ] mx-auto max-w-(--thread-content-max-width) flex-1 group/turn-messages foc
 us-visible:outline-hidden relative flex w-full min-w-0 flex-col agent-turn"
 ><div class="flex max-w-full flex-col gap-4 grow"><div data-message-author-
 role="assistant" data-message-id="074f9984-a567-4fc7-b785-314bc3f0d9bd" dir
 ="auto" data-message-model-slug="gpt-5-3" class="min-h-8 text-message relat
 ive flex w-full flex-col items-end gap-2 text-start break-words whitespace-
 normal outline-none keyboard-focused:focus-ring [.text-message+&amp;]:mt-1"
  data-turn-start-message="true" tabindex="0"><div class="flex w-full flex-c
 ol gap-1 empty:hidden"><div class="markdown prose dark:prose-invert w-full 
 wrap-break-word light markdown-new-styling"><p data-start="0" data-end="509
 ">For the third time, an Oldenburg Elite Foal Auction will take place at Ho
 rses &amp; Dreams at Hof Kasselmann. Horses &amp; Dreams is one of the most
  prestigious events in the international equestrian calendar, bringing toge
 ther breeders, top riders and horse enthusiasts from around the world. In t
 he anniversary year 2026, visitors can once again look forward not only to 
 top-class sport, but also to the Oldenburg Elite Foal Auction, which will b
 e held as part of the event on Friday, 24 April in the evening hours.</p></
 div></div></div></div></div></div></section>
DTSTAMP:20260423T130519
DTSTART;TZID=Europe/Berlin:20260423T180000
DTEND;TZID=Europe/Berlin:20260423T194500
SEQUENCE:0
TRANSP:OPAQUE
END:VEVENT
END:VCALENDAR